BEGIN:VCALENDAR
VERSION:2.0
PRODID:-//RPA Kappas - ECPv6.15.18//NONSGML v1.0//EN
CALSCALE:GREGORIAN
METHOD:PUBLISH
X-ORIGINAL-URL:https://www.rpakappas.com
X-WR-CALDESC:Events for RPA Kappas
REFRESH-INTERVAL;VALUE=DURATION:PT1H
X-Robots-Tag:noindex
X-PUBLISHED-TTL:PT1H
BEGIN:VTIMEZONE
TZID:America/Chicago
BEGIN:DAYLIGHT
TZOFFSETFROM:-0600
TZOFFSETTO:-0500
TZNAME:CDT
DTSTART:20170312T080000
END:DAYLIGHT
BEGIN:STANDARD
TZOFFSETFROM:-0500
TZOFFSETTO:-0600
TZNAME:CST
DTSTART:20171105T070000
END:STANDARD
BEGIN:DAYLIGHT
TZOFFSETFROM:-0600
TZOFFSETTO:-0500
TZNAME:CDT
DTSTART:20180311T080000
END:DAYLIGHT
BEGIN:STANDARD
TZOFFSETFROM:-0500
TZOFFSETTO:-0600
TZNAME:CST
DTSTART:20181104T070000
END:STANDARD
BEGIN:DAYLIGHT
TZOFFSETFROM:-0600
TZOFFSETTO:-0500
TZNAME:CDT
DTSTART:20190310T080000
END:DAYLIGHT
BEGIN:STANDARD
TZOFFSETFROM:-0500
TZOFFSETTO:-0600
TZNAME:CST
DTSTART:20191103T070000
END:STANDARD
END:VTIMEZONE
BEGIN:VTIMEZONE
TZID:UTC
BEGIN:STANDARD
TZOFFSETFROM:+0000
TZOFFSETTO:+0000
TZNAME:UTC
DTSTART:20170101T000000
END:STANDARD
END:VTIMEZONE
BEGIN:VEVENT
DTSTART;TZID=America/Chicago:20180911T203000
DTEND;TZID=America/Chicago:20180911T213000
DTSTAMP:20260419T075224
CREATED:20180906T223945Z
LAST-MODIFIED:20180907T181346Z
UID:1237-1536697800-1536701400@www.rpakappas.com
SUMMARY:MTA Webinar: St. Jude\, University Meeting/Police Meeting and Administration Meeting.
DESCRIPTION:
URL:https://www.rpakappas.com/event/mta-webinar-st-jude-university-meeting-police-meeting-and-administration-meeting/
ATTACH;FMTTYPE=image/png:https://www.rpakappas.com/wp-content/uploads/2018/09/Official-MTA-Logo-Full-Color.png
END:VEVENT
BEGIN:VEVENT
DTSTART;TZID=America/Chicago:20180911T143000
DTEND;TZID=America/Chicago:20180911T233000
DTSTAMP:20260419T075224
CREATED:20180906T202108Z
LAST-MODIFIED:20180906T202108Z
UID:1179-1536676200-1536708600@www.rpakappas.com
SUMMARY:AT&T Stadium Event - Jay-Z and Beyoncé: OTR II
DESCRIPTION:
URL:https://www.rpakappas.com/event/att-stadium-event-jay-z-and-beyonce-otr-ii/
ATTACH;FMTTYPE=image/jpeg:https://www.rpakappas.com/wp-content/uploads/2018/09/OTRII.jpg
END:VEVENT
BEGIN:VEVENT
DTSTART;TZID=America/Chicago:20180908T200000
DTEND;TZID=America/Chicago:20180908T200000
DTSTAMP:20260419T075224
CREATED:20180906T175952Z
LAST-MODIFIED:20180906T221903Z
UID:1160-1536436800-1536436800@www.rpakappas.com
SUMMARY:Dallas Alumni Chapter: Kasino Royale
DESCRIPTION:
URL:https://www.rpakappas.com/event/dallas-alumni-chapter-kasino-royale/
ATTACH;FMTTYPE=image/jpeg:https://www.rpakappas.com/wp-content/uploads/2018/09/Casino.jpg
END:VEVENT
BEGIN:VEVENT
DTSTART;TZID=America/Chicago:20180908T133000
DTEND;TZID=America/Chicago:20180908T153000
DTSTAMP:20260419T075224
CREATED:20180906T205349Z
LAST-MODIFIED:20180906T205910Z
UID:1188-1536413400-1536420600@www.rpakappas.com
SUMMARY:KL: Man-Up Mentoring
DESCRIPTION:7706 Osage Plaza Pkwy\, Dallas\, TX 75252\, USA
URL:https://www.rpakappas.com/event/kl-man-up-mentoring/
LOCATION:TX\, United States
ATTACH;FMTTYPE=image/jpeg:https://www.rpakappas.com/wp-content/uploads/2018/09/KL.jpg
END:VEVENT
BEGIN:VEVENT
DTSTART;TZID=America/Chicago:20180906T190000
DTEND;TZID=America/Chicago:20180906T203000
DTSTAMP:20260419T075224
CREATED:20180906T225057Z
LAST-MODIFIED:20180906T225057Z
UID:1245-1536260400-1536265800@www.rpakappas.com
SUMMARY:NAACP - Collin County
DESCRIPTION:
URL:https://www.rpakappas.com/event/naacp-collin-county-2/
LOCATION:Collin College Preston Ridge Campus\, 9700 Wade Blvd\, Frisco\, TX\, 75035\, United States
ATTACH;FMTTYPE=image/jpeg:https://www.rpakappas.com/wp-content/uploads/2018/09/naacpLOGO.jpg
END:VEVENT
BEGIN:VEVENT
DTSTART;TZID=America/Chicago:20180904T203000
DTEND;TZID=America/Chicago:20180904T213000
DTSTAMP:20260419T075224
CREATED:20180906T223510Z
LAST-MODIFIED:20180906T223625Z
UID:1231-1536093000-1536096600@www.rpakappas.com
SUMMARY:MTA Webinar: Planning Document\, Formal Informational Meeting
DESCRIPTION:
URL:https://www.rpakappas.com/event/mta-webinar-planning-document-formal-informational-meeting/
ATTACH;FMTTYPE=image/png:https://www.rpakappas.com/wp-content/uploads/2018/09/Official-MTA-Logo-Full-Color.png
END:VEVENT
BEGIN:VEVENT
DTSTART;TZID=UTC:20180809T190000
DTEND;TZID=UTC:20180809T210000
DTSTAMP:20260419T075224
CREATED:20180809T060912Z
LAST-MODIFIED:20180809T061056Z
UID:992-1533841200-1533848400@www.rpakappas.com
SUMMARY:RPA General Body Meeting
DESCRIPTION:
URL:https://www.rpakappas.com/event/general-body-meeting/
LOCATION:Collin College Preston Ridge Campus\, 9700 Wade Blvd\, Frisco\, TX\, 75035\, United States
END:VEVENT
END:VCALENDAR